BEGIN:VCALENDAR
VERSION:2.0
PRODID:-//Plone.org//NONSGML plone.app.event//EN
X-WR-TIMEZONE:America/Sao_Paulo
BEGIN:VEVENT
SUMMARY:Ensino Clínico Em Enfermagem: Diretrizes Para O Preparo E Adminis
 tração De Medicamentos Na Perspectiva Dos Docentes Da Ete João Barcelos
  Martins/Faetec
DTSTART;TZID=America/Sao_Paulo;VALUE=DATE-TIME:20260421T150000
DTEND;TZID=America/Sao_Paulo;VALUE=DATE-TIME:20260421T170000
DTSTAMP;VALUE=DATE-TIME:20260422T194407Z
UID:130c0415c5f14a4b92d5350154eb8e68@portal1.iff.edu.br
CATEGORIES:Campus Macaé
CATEGORIES:ProfEPT
CREATED;VALUE=DATE-TIME:20260414T171018Z
LAST-MODIFIED;VALUE=DATE-TIME:20260414T171034Z
URL:https://portal1.iff.edu.br/o-iffluminense/pesquisa/pos-graduacao-stric
 to-sensu/mestrado-profissional-em-educacao-profissional-e-tecnologica/even
 tos/ensino-clinico-em-enfermagem-diretrizes-para-o-preparo-e-administracao
 -de-medicamentos-na-perspectiva-dos-docentes-da-ete-joao-barcelos-martins-
 faetec
END:VEVENT
BEGIN:VTIMEZONE
TZID:America/Sao_Paulo
X-LIC-LOCATION:America/Sao_Paulo
BEGIN:STANDARD
DTSTART;VALUE=DATE-TIME:20260221T230000
TZNAME:-03
TZOFFSETFROM:-0200
TZOFFSETTO:-0300
END:STANDARD
END:VTIMEZONE
END:VCALENDAR
