BEGIN:VCALENDAR
VERSION:2.0
PRODID:-//Plone.org//NONSGML plone.app.event//EN
X-WR-TIMEZONE:America/Sao_Paulo
BEGIN:VEVENT
SUMMARY:Semana Acadêmica da Licenciatura em Geografia
DTSTART;VALUE=DATE-TIME:20170814T180000Z
DTEND;VALUE=DATE-TIME:20170818T160000Z
DTSTAMP;VALUE=DATE-TIME:20260423T004546Z
UID:c155dd1122d04a2fb4a431a146f204c7
CATEGORIES:Pró-reitoria de Pesquisa e Inovação
CATEGORIES:Pós-graduação
CATEGORIES:Stricto Sensu
CATEGORIES:Mestrado
CATEGORIES:Engenharia Ambiental
CATEGORIES:Mestrado em Engenharia Ambiental
CONTACT:Professor Umbelino\, http://portal1.iff.edu.br/nossos-campi/campos
 -centro/noticias/semana-academica-da-licenciatura-em-geografia
CREATED;VALUE=DATE-TIME:20170804T182300Z
DESCRIPTION:Semana de Geografia será realizada no período de 14 a 18 de 
 agosto de 2017.
LAST-MODIFIED;VALUE=DATE-TIME:20170804T182815Z
LOCATION:Campus Centro
URL:https://portal1.iff.edu.br/o-iffluminense/pesquisa/pos-graduacao-stric
 to-sensu/mestrado-em-engenharia-ambiental/eventos-e-noticias/eventos/seman
 a-academica-da-licenciatura-em-geografia
END:VEVENT
END:VCALENDAR
