BEGIN:VCALENDAR
VERSION:2.0
PRODID:-//Plone.org//NONSGML plone.app.event//EN
X-WR-TIMEZONE:America/Sao_Paulo
BEGIN:VEVENT
SUMMARY:V Seminário Regional sobre Gestão dos Recursos Hídricos
DTSTART;VALUE=DATE-TIME:20160927T081900Z
DTEND;VALUE=DATE-TIME:20160929T081900Z
DTSTAMP;VALUE=DATE-TIME:20260423T022126Z
UID:7b7b3ac7f08f41ab95a9cb54370de4b4
CATEGORIES:Pró-reitoria de Pesquisa e Inovação
CATEGORIES:Pós-graduação
CATEGORIES:Stricto Sensu
CATEGORIES:Mestrado
CATEGORIES:Engenharia Ambiental
CONTACT:http://srhidro2016.iff.edu.br/
CREATED;VALUE=DATE-TIME:20160831T125303Z
DESCRIPTION:O objetivo do seminário é colaborar na difusão de alternati
 vas de gestão de recursos hídricos compatíveis com a sustentabilidade r
 egional.
LAST-MODIFIED;VALUE=DATE-TIME:20160831T131307Z
LOCATION:Campos Macaé do IFF
URL:https://portal1.iff.edu.br/o-iffluminense/pesquisa/pos-graduacao-stric
 to-sensu/mestrado-em-engenharia-ambiental/eventos-e-noticias/eventos/v-sem
 inario-regional-sobre-gestao-dos-recursos-hidricos-1
END:VEVENT
END:VCALENDAR
